BEGIN:VCALENDAR
PRODID:-//github.com/rianjs/ical.net//NONSGML ical.net 2.0//EN
VERSION:2.0
BEGIN:VEVENT
DTEND:20230720T210000
DTSTAMP:20260424T072711Z
DTSTART:20230720T203000
LOCATION:Jerusalem
SEQUENCE:0
SUMMARY:An Old-New Land: Theodor Herzl - The Man and the Vision\n
UID:a9366c68-0378-414b-8eb5-d6ded97114f5
END:VEVENT
END:VCALENDAR
